BEGIN:VCALENDAR
VERSION:2.0
PRODID:-//InvisionCommunity Events 4.7.21//EN
METHOD:PUBLISH
CALSCALE:GREGORIAN
REFRESH-INTERVAL:PT15M
X-PUBLISHED-TTL:PT15M
X-WR-CALNAME:Calendrier des sorties
NAME:Calendrier des sorties
BEGIN:VTIMEZONE
TZID:Europe/London
TZURL:http://tzurl.org/zoneinfo/Europe/London
X-LIC-LOCATION:Europe/London
BEGIN:DAYLIGHT
TZOFFSETFROM:+0000
TZOFFSETTO:+0100
TZNAME:BST
DTSTART:20060326T020000Z
RRULE:FREQ=YEARLY;BYMONTH=3;BYDAY=-1SU
END:DAYLIGHT
BEGIN:STANDARD
TZOFFSETFROM:+0100
TZOFFSETTO:+0000
TZNAME:GMT
DTSTART:20061029T020000Z
RRULE:FREQ=YEARLY;BYMONTH=10;BYDAY=-1SU
END:STANDARD
END:VTIMEZONE
BEGIN:VEVENT
SUMMARY:Le Mans Classic
DTSTAMP:20060626T172707Z
SEQUENCE:1
UID:35-1-37d2117b558f99b8c2bab66171987d41@forums.audipassion.com
ORGANIZER;CN="Laurie":noreply@audipassion.com
DESCRIPTION:\nBonjour\,\n \n \n\nDu 7 au 9 juillet aura lieu la 3ème
	 édition du Mans Classic\, le club de La Communauté des 4 Anneaux expose
	ra en tant que club Audi\, parmi les 5000 voitures  de clubs attendus\, no
	us serons à l'emplacement clubs : n°4 \, entre le restaurant \"la Dolce 
	Vilta\" - entrée \"Durand\" et l'entrée sud\, là où tous les clubs ser
	ont.\n \n\nplus d'infos\n \n\nla seconde édition comptait 50000 visiteu
	rs\, 400 voitures sur pistes\, 4000 voitures de clubs\n \n\ncette année 
	il y aura 6 plateaux\, en fonction des années\, des voitures de 1923 à 1
	979 ayant courrus au Mans.\n\n396 voitures se relayant pendant 24 heures p
	ar plateau de 3 manches\, de samedi 16h à Dimanche 16h\n\nles essais déb
	uteront vendredi de 15h à 20h20 et de 22h à 1h55 du matin.\n \n\nDes bi
	llets sont en vente sur le site pour ces journées\, incluant l'enceinte 
	générale\, les paddocks et le parking club du circuit buggati.\n \n\nJe
	 vous souhaite de bonnes journées et un bon spectacle  :hot:  :bien: \n 
	\n\nle bulletin pour les billets\n
DTSTART:20060707T020000Z
DTEND:20060710T015959Z
END:VEVENT
END:VCALENDAR
