BEGIN:VCALENDAR
VERSION:2.0
PRODID:-//InvisionCommunity Events 4.7.21//EN
METHOD:PUBLISH
CALSCALE:GREGORIAN
REFRESH-INTERVAL:PT15M
X-PUBLISHED-TTL:PT15M
X-WR-CALNAME:Calendrier communauté
NAME:Calendrier communauté
BEGIN:VTIMEZONE
TZID:Europe/London
TZURL:http://tzurl.org/zoneinfo/Europe/London
X-LIC-LOCATION:Europe/London
BEGIN:DAYLIGHT
TZOFFSETFROM:+0000
TZOFFSETTO:+0100
TZNAME:BST
DTSTART:20140330T020000Z
RRULE:FREQ=YEARLY;BYMONTH=3;BYDAY=-1SU
END:DAYLIGHT
BEGIN:STANDARD
TZOFFSETFROM:+0100
TZOFFSETTO:+0000
TZNAME:GMT
DTSTART:20141026T020000Z
RRULE:FREQ=YEARLY;BYMONTH=10;BYDAY=-1SU
END:STANDARD
END:VTIMEZONE
BEGIN:VEVENT
SUMMARY:Automedon - Salon des véhicules de collection
DTSTAMP:20141012T120450Z
SEQUENCE:0
UID:50-2-37d2117b558f99b8c2bab66171987d41@forums.audipassion.com
ORGANIZER;CN="Sylvain":noreply@audipassion.com
DESCRIPTION:Salon Automedon au parc des expositions de Paris - Le Bourge
	t
DTSTART;VALUE=DATE:20141018
DTEND;VALUE=DATE:20141020
END:VEVENT
BEGIN:VEVENT
SUMMARY:Mondial de l'automobile de Paris 2014
DTSTAMP:20140915T190620Z
SEQUENCE:0
UID:49-2-37d2117b558f99b8c2bab66171987d41@forums.audipassion.com
ORGANIZER;CN="Sylvain":noreply@audipassion.com
DESCRIPTION:Mondial de l'automobile de Paris - Edition 2014 à la Porte 
	de Versailles - Paris - France
DTSTART;VALUE=DATE:20141004
DTEND;VALUE=DATE:20141020
END:VEVENT
END:VCALENDAR
