BEGIN:VCALENDAR
VERSION:2.0
PRODID:-//InvisionCommunity Events 4.7.21//EN
METHOD:PUBLISH
CALSCALE:GREGORIAN
REFRESH-INTERVAL:PT15M
X-PUBLISHED-TTL:PT15M
X-WR-CALNAME:Calendrier des sorties
NAME:Calendrier des sorties
BEGIN:VTIMEZONE
TZID:Europe/London
TZURL:http://tzurl.org/zoneinfo/Europe/London
X-LIC-LOCATION:Europe/London
BEGIN:DAYLIGHT
TZOFFSETFROM:+0000
TZOFFSETTO:+0100
TZNAME:BST
DTSTART:20060326T020000Z
RRULE:FREQ=YEARLY;BYMONTH=3;BYDAY=-1SU
END:DAYLIGHT
BEGIN:STANDARD
TZOFFSETFROM:+0100
TZOFFSETTO:+0000
TZNAME:GMT
DTSTART:20061029T020000Z
RRULE:FREQ=YEARLY;BYMONTH=10;BYDAY=-1SU
END:STANDARD
END:VTIMEZONE
BEGIN:VTIMEZONE
TZID:Europe/London
TZURL:http://tzurl.org/zoneinfo/Europe/London
X-LIC-LOCATION:Europe/London
BEGIN:DAYLIGHT
TZOFFSETFROM:+0000
TZOFFSETTO:+0100
TZNAME:BST
DTSTART:20050327T020000Z
RRULE:FREQ=YEARLY;BYMONTH=3;BYDAY=-1SU
END:DAYLIGHT
BEGIN:STANDARD
TZOFFSETFROM:+0100
TZOFFSETTO:+0000
TZNAME:GMT
DTSTART:20051030T020000Z
RRULE:FREQ=YEARLY;BYMONTH=10;BYDAY=-1SU
END:STANDARD
END:VTIMEZONE
BEGIN:VEVENT
SUMMARY:10è RDV mensuel à Lyon.
DTSTAMP:20061128T081930Z
SEQUENCE:1
UID:47-1-37d2117b558f99b8c2bab66171987d41@forums.audipassion.com
ORGANIZER;CN="Pierrot.":noreply@audipassion.com
DESCRIPTION:\nEt oui\,notre 10è RDV mensuel à Lyon. :hot: \n\n\n\n\n\n
	\n \n\n&gt\;Ici&lt\;\n
DTSTART:20061203T010000Z
END:VEVENT
BEGIN:VEVENT
SUMMARY:Rassemblement mensuel à Vincennes dimanche 3/12
DTSTAMP:20061128T014719Z
SEQUENCE:1
UID:48-1-37d2117b558f99b8c2bab66171987d41@forums.audipassion.com
ORGANIZER;CN="Laurie":noreply@audipassion.com
DESCRIPTION:\nRDV Mensuel du dimanche à Vincennes (94)\, ouvert à tous
	\n \n\nil permet de se rassembler près du chateau\, face à l'entrée du
	 parc floral\n\net de voir en même temps toutes les marques d'anciennes e
	t modernes des clubs automobiles représentés ce jour là.\n \n\nLa Comm
	unauté des Quatre Anneaux vous convie à nous rejoindre dans la joie et l
	a bonne humeur\, vous pouvez y participer de 9h à 13h\, nous serons prés
	ent pour vous accueillir et vous offrir le petit déjeuner apporté par le
	s bénévols présents\, les veinoiseries\, café\, jus de fruit\, gateaux
	 seront les bienvenues pour ceux qui souhaitent contribuer :bien:\n \n\nS
	i vous souhaitez nous rejoindre et soutenir le club et le site\, ce mois-c
	i commencerons les adhésions pour 2007\, un bulletin est disponible en pa
	ge d'acceuil du site\, que vous pouvez télécharger \; nous mettrons éga
	lement des bulletins à disposition à Vincennes.\n \n \n\nDes rassemble
	ments mensuels dans d'autres régions sont également présent à cette m
	ême date : celui de Caen en normandie et celui de Lyon\, donc si vous êt
	es dans ces régions n'hésitez pas nous serons heureux de vous compter pa
	rmi nous :bien:\n \n \n\nBulletin d'inscription\n \n\nrassemblement de 
	Vincennes\n
DTSTART:20061203T010000Z
END:VEVENT
BEGIN:VEVENT
SUMMARY:9è RDV mensuel à Lyon.
DTSTAMP:20061026T114507Z
SEQUENCE:1
UID:46-1-37d2117b558f99b8c2bab66171987d41@forums.audipassion.com
ORGANIZER;CN="Pierrot.":noreply@audipassion.com
DESCRIPTION:\nEt oui\,notre 9è RDV mensuel à Lyon. :hot: \n \n\n\n\n\
	n\n\n
DTSTART:20061105T010000Z
END:VEVENT
BEGIN:VEVENT
SUMMARY:Rassemblement mensuel : vincennes\, caen\, lyon
DTSTAMP:20060928T150641Z
SEQUENCE:1
UID:45-1-37d2117b558f99b8c2bab66171987d41@forums.audipassion.com
ORGANIZER;CN="LCQA":noreply@audipassion.com
DESCRIPTION:\nRDV Mensuel du dimanche à Vincennes (94)\, ouvert à tous
	\n \n\nil permet de se rassembler près du chateau\, face à l'entrée du
	 parc floral\n\net de voir en même temps toutes les marques d'anciennes e
	t modernes des clubs automobiles représentés ce jour là.\n \n\nLa Comm
	unauté des Quatre Anneaux vous convie à nous rejoindre dans la joie et l
	a bonne humeur\, vous pouvez y participer de 9h à 13h\, nous serons prés
	ent pour vous accueillir et vous offrir le petit déjeuner apporté par le
	s bénévols présents\, les veinoiseries\, café\, jus de fruit\, gateaux
	 seront les bienvenues pour ceux qui souhaitent contribuer :bien:\n \n\nU
	n repas en toute simplicité aura également lieu pour ceux qui le souhait
	ent\, à la fin du rassemblement\, pour ne pas laisser nos amis belges rep
	artirent le ventre vide  \;)\n \n\ndes rassemblements mensuels dans d'aut
	res régions sont également présent à cette même date : celui de Caen 
	en normandie et celui de Lyon\, donc si vous êtes dans ces régions n'hé
	sitez pas nous serons heureux de vous compter parmi nous :bien:\n \n \n\
	nle lien de vincennes\n \n\nrassemblement de Lyon\n \n\nRassemblement de
	 Caen\n
DTSTART:20061001T020000Z
END:VEVENT
BEGIN:VEVENT
SUMMARY:8è RDV mensuel à Lyon.
DTSTAMP:20060921T093934Z
SEQUENCE:1
UID:41-1-37d2117b558f99b8c2bab66171987d41@forums.audipassion.com
ORGANIZER;CN="Pierrot.":noreply@audipassion.com
DESCRIPTION:\nEt oui\,notre 8è RDV mensuel à Lyon.  :hot: \n\n    \n\n
	\n\n    \n \n \n
DTSTART:20061001T020000Z
END:VEVENT
BEGIN:VEVENT
SUMMARY:Sortie Rhône Alpes
DTSTAMP:20060916T073550Z
SEQUENCE:1
UID:42-1-37d2117b558f99b8c2bab66171987d41@forums.audipassion.com
ORGANIZER;CN="Pierrot.":noreply@audipassion.com
DESCRIPTION:\nEt oui\,notre première Grande Sortie de la RAT:&gt\;Sorti
	e RAT 2006&lt\;\n \n\n\n
DTSTART:20060923T020000Z
END:VEVENT
BEGIN:VEVENT
SUMMARY:7è RDV mensuel à Lyon.
DTSTAMP:20060811T062427Z
SEQUENCE:1
UID:40-1-37d2117b558f99b8c2bab66171987d41@forums.audipassion.com
ORGANIZER;CN="Pierrot.":noreply@audipassion.com
DESCRIPTION:\nEt oui\,notre 7è RDV mensuel à Lyon.  :hot: \n \n\n\n\n
	\n\n\n \n
DTSTART:20060903T020000Z
END:VEVENT
BEGIN:VEVENT
SUMMARY:Resto @ Fréjus  (83)
DTSTAMP:20060803T194242Z
SEQUENCE:1
UID:39-1-37d2117b558f99b8c2bab66171987d41@forums.audipassion.com
ORGANIZER;CN="vwaudi":noreply@audipassion.com
DESCRIPTION:\nRencontre en PACA!\n \n\nhttp://www.audipassion.com/servi
	ces/forums/index.php?showtopic=34758&amp\;st=0 \n \n \n\n :coucou: \n
DTSTART:20060804T020000Z
END:VEVENT
BEGIN:VEVENT
SUMMARY:Rassemblement à Vincennes (94) le 6 aout 2006
DTSTAMP:20060717T120641Z
SEQUENCE:1
UID:38-1-37d2117b558f99b8c2bab66171987d41@forums.audipassion.com
ORGANIZER;CN="Laurie":noreply@audipassion.com
DESCRIPTION:\nPour une fois nous nous rassemblerons à partir de 10h \,
	 à la Porte jaune de Vincennes (94) pour un pique nique de passionnés de
	 la marque des 4 Anneaux.\n \n\nVous pourrez apportez votre panier\, nous
	 pique niquerons sur place\, dans le parc de la porte jaune\, à 400m du c
	hâteau de vincennes. Prévoyez de l'eau pour vous hydrater\, le mois d'ao
	ut est chaud  :bigsmile: \n \n\nPlan d'accès par rapport à l'emplacemen
	t habituel du chateau\n \n\nplus de détails en forum sortie lcqa  :bien:
	  \n
DTSTART:20060806T020000Z
END:VEVENT
BEGIN:VEVENT
SUMMARY:6è RDV mensuel à Lyon.
DTSTAMP:20060703T060514Z
SEQUENCE:1
UID:37-1-37d2117b558f99b8c2bab66171987d41@forums.audipassion.com
ORGANIZER;CN="Pierrot.":noreply@audipassion.com
DESCRIPTION:\nEt oui\,notre 6è RDV mensuel à Lyon. :hot: \n \n\n\n\n\
	n\n\n
DTSTART:20060806T020000Z
END:VEVENT
BEGIN:VEVENT
SUMMARY:Le Mans Classic
DTSTAMP:20060626T172707Z
SEQUENCE:1
UID:35-1-37d2117b558f99b8c2bab66171987d41@forums.audipassion.com
ORGANIZER;CN="Laurie":noreply@audipassion.com
DESCRIPTION:\nBonjour\,\n \n \n\nDu 7 au 9 juillet aura lieu la 3ème
	 édition du Mans Classic\, le club de La Communauté des 4 Anneaux expose
	ra en tant que club Audi\, parmi les 5000 voitures  de clubs attendus\, no
	us serons à l'emplacement clubs : n°4 \, entre le restaurant \"la Dolce 
	Vilta\" - entrée \"Durand\" et l'entrée sud\, là où tous les clubs ser
	ont.\n \n\nplus d'infos\n \n\nla seconde édition comptait 50000 visiteu
	rs\, 400 voitures sur pistes\, 4000 voitures de clubs\n \n\ncette année 
	il y aura 6 plateaux\, en fonction des années\, des voitures de 1923 à 1
	979 ayant courrus au Mans.\n\n396 voitures se relayant pendant 24 heures p
	ar plateau de 3 manches\, de samedi 16h à Dimanche 16h\n\nles essais déb
	uteront vendredi de 15h à 20h20 et de 22h à 1h55 du matin.\n \n\nDes bi
	llets sont en vente sur le site pour ces journées\, incluant l'enceinte 
	générale\, les paddocks et le parking club du circuit buggati.\n \n\nJe
	 vous souhaite de bonnes journées et un bon spectacle  :hot:  :bien: \n 
	\n\nle bulletin pour les billets\n
DTSTART:20060707T020000Z
DTEND:20060710T015959Z
END:VEVENT
BEGIN:VEVENT
SUMMARY:Rassemblement de Vincennes
DTSTAMP:20060625T193726Z
SEQUENCE:1
UID:36-1-37d2117b558f99b8c2bab66171987d41@forums.audipassion.com
ORGANIZER;CN="Laurie":noreply@audipassion.com
DESCRIPTION:\nRDV Mensuel du dimanche à Vincennes (94)\, ouvert à tous
	\n \n\nil permet de se rassembler près du chateau\, face à l'entrée du
	 parc floral\n\net de voir en même temps toutes les marques d'anciennes e
	t modernes des clubs automobiles représentés ce jour là.\n \n\nLa Comm
	unauté des Quatre Anneaux vous convie à nous rejoindre dans la joie et l
	a bonne humeur\, à cette occasion notre partenaire 4rs offrira le petit 
	déjeuner\, vous pouvez y participer de 9h à 13h\, nous serons présent p
	our vous accueillir :bien:\n \n\nde nouveaux rassemblements mensuels vont
	 également voir le jour à cette même date : celui de Caen en normandie 
	et celui de Lyon\, donc si vous êtes dans ces régions n'hésitez pas nou
	s serons heureux de vous compter parmi nous :bien:\n
DTSTART:20060702T020000Z
END:VEVENT
BEGIN:VEVENT
SUMMARY:Sortie \"Savoie 2006\"
DTSTAMP:20060615T112524Z
SEQUENCE:1
UID:33-1-37d2117b558f99b8c2bab66171987d41@forums.audipassion.com
ORGANIZER;CN="Pierrot.":noreply@audipassion.com
DESCRIPTION:\nEt oui\,notre sortie Savoie 2006 de la RAT :bien: \n\n&gt\
	;Sortie Savoie de la RAT&lt\;\n \n\n------\n\n\n\n------\n \n \n
DTSTART:20060625T020000Z
END:VEVENT
BEGIN:VEVENT
SUMMARY:5è RDV mensuel à Lyon.
DTSTAMP:20060524T112756Z
SEQUENCE:1
UID:34-1-37d2117b558f99b8c2bab66171987d41@forums.audipassion.com
ORGANIZER;CN="Pierrot.":noreply@audipassion.com
DESCRIPTION:\nEt oui\,notre 5è RDV mensuel à Lyon. :hot:  \n\n------\n
	\n\n\n------\n
DTSTART:20060702T020000Z
END:VEVENT
BEGIN:VEVENT
SUMMARY:Rassemblements du 7 mai : Vincennes\, Caen\, Lyon\,
DTSTAMP:20060503T003734Z
SEQUENCE:1
UID:27-1-37d2117b558f99b8c2bab66171987d41@forums.audipassion.com
ORGANIZER;CN="Laurie":noreply@audipassion.com
DESCRIPTION:\nRDV Mensuel du dimanche à Vincennes (94)\, ouvert à tous
	\n \n\nil permet de se rassembler près du chateau\, face à l'entrée du
	 parc floral\n\net de voir en même temps toutes les marques d'anciennes e
	t modernes des clubs automobiles représentés ce jour là.\n \n\nLa Comm
	unauté des Quatre Anneaux vous convie à nous rejoindre dans la joie et l
	a bonne humeur :P \, \n\nà cette occasion notre partenaire 4rs offrira le
	 petit déjeuner\, vous pouvez y participer de 9h à 13h\, nous serons rav
	is de vous accueillir :bien:\n \n\nNous disposerons également de produit
	s de la boutique du club ( polos\, autocollants )\, pour tout ceux qui sou
	haitent participer à la vie du club.\n \n\nde nouveaux rassemblements me
	nsuels vont également voir le jour à cette même date : celui de Caen en
	 normandie et celui de Lyon\, donc si vous êtes dans ces régions n'hési
	tez pas nous serons heureux de vous compter parmi nous :bien:\n \n\nLes p
	roduits du club seront également disponible au rassemblement de Lyon\n \
	n\nle lien de vincennes\n \n\nLyon\n \n\nCaen\n
DTSTART:20060507T020000Z
END:VEVENT
BEGIN:VEVENT
SUMMARY:Celtic Tour 2006
DTSTAMP:20060502T105452Z
SEQUENCE:1
UID:31-1-37d2117b558f99b8c2bab66171987d41@forums.audipassion.com
ORGANIZER;CN="PandaVet":noreply@audipassion.com
DESCRIPTION:Toutes les infos ici : http://www.audipassion.com/services/f
	orums/index.php?showtopic=23169
DTSTART:20060603T020000Z
DTEND:20060606T015959Z
END:VEVENT
BEGIN:VEVENT
SUMMARY:RDV Mensuel à Lyon
DTSTAMP:20060427T094648Z
SEQUENCE:1
UID:26-1-37d2117b558f99b8c2bab66171987d41@forums.audipassion.com
ORGANIZER;CN="Pierrot.":noreply@audipassion.com
DESCRIPTION:\nEt oui\,notre 3è RDV mensuel à Lyon  :hot: \n\n--------\
	n\n\n\n--------\n
DTSTART:20060507T020000Z
END:VEVENT
BEGIN:VEVENT
SUMMARY:Rallye Touristique du 29-30/4 en bourgogne Allier
DTSTAMP:20060427T080021Z
SEQUENCE:1
UID:29-1-37d2117b558f99b8c2bab66171987d41@forums.audipassion.com
ORGANIZER;CN="Laurie":noreply@audipassion.com
DESCRIPTION:\nBonjour\,\n \n\nPour le week end du 29-30 avril\, nous or
	ganisons un Rallye Touristique près de Lurcy lévis\, en région bourgogn
	e-Allier \n \n\nOn y trouve pas moins de 500 chateaux\, des vignes de Pou
	illy au chateau de Ducs de Bourgognes\, nous  \n\nvisiterons la région et
	 dusgusterons les produits de terroir\, des caves aux fromageries\, avec u
	n repas le dimanche midi dans la forteresse médiévale des ducs de Bourbo
	n dans une ambiance des plus conviviale\n \n\nles détails \n
DTSTART:20060429T020000Z
DTEND:20060501T015959Z
END:VEVENT
BEGIN:VEVENT
SUMMARY:2è RDV Mensuel à Lyon
DTSTAMP:20060422T082839Z
SEQUENCE:1
UID:23-1-37d2117b558f99b8c2bab66171987d41@forums.audipassion.com
ORGANIZER;CN="Pierrot.":noreply@audipassion.com
DESCRIPTION:\nEt oui\,notre 2è RDV mensuel à Lyon :hot: \n\n--------\n
	\n\n\n--------\n
DTSTART:20060402T020000Z
END:VEVENT
BEGIN:VEVENT
SUMMARY:Sortie Rhone-Alpes : Beaujolais 2006
DTSTAMP:20060325T192917Z
SEQUENCE:1
UID:21-1-37d2117b558f99b8c2bab66171987d41@forums.audipassion.com
ORGANIZER;CN="Pierrot.":noreply@audipassion.com
DESCRIPTION:\nEt oui\,encore une Belle Sortie de la RAT\,qui s'annonce\,
	avec plein de surprises :bien:  :bigsmile: \n \n\n\n \n\n\n \n
DTSTART:20060326T010000Z
END:VEVENT
BEGIN:VEVENT
SUMMARY:RDV Mensuel de Vincennes
DTSTAMP:20060324T124906Z
SEQUENCE:1
UID:24-1-37d2117b558f99b8c2bab66171987d41@forums.audipassion.com
ORGANIZER;CN="Pierrot.":noreply@audipassion.com
DESCRIPTION:Venez nombreux et nombreuses :bien: 
DTSTART:20060402T020000Z
END:VEVENT
BEGIN:VEVENT
SUMMARY:Rassemblements de Vincennes\, de Caen et de Lyon
DTSTAMP:20060301T013540Z
SEQUENCE:1
UID:19-1-37d2117b558f99b8c2bab66171987d41@forums.audipassion.com
ORGANIZER;CN="Laurie":noreply@audipassion.com
DESCRIPTION:\nRDV Mensuel du dimanche à Vincennes (94)\, ouvert à tous
	\n \n\nil permet de se rassembler près du chateau\, face à l'entrée du
	 parc floral\n\net de voir en même temps toutes les marques d'anciennes e
	t modernes des clubs automobiles représentés ce jour là.\n \n\nLa Comm
	unauté des Quatre Anneaux vous convie à nous rejoindre dans la joie et l
	a bonne humeur\, à cette occasion notre partenaire 4rs offrira le petit 
	déjeuner\, vous pouvez y participer de 9h à 13h\, nous serons présent p
	our vous accueillir :bien: \n \n\nde nouveaux rassemblements mensuels von
	t également voir le jour à cette même date : celui de Caen en normandie
	 et celui de Lyon\, donc si vous êtes dans ces régions n'hésitez pas  n
	ous serons heureux de vous compter parmi nous :bien:\n \n \n\nle lien de
	 vincennes    \n \n\nLyon\n \n\nCaen\n
DTSTART:20060305T010000Z
END:VEVENT
BEGIN:VEVENT
SUMMARY:Assemblée Générale du club LCQA
DTSTAMP:20060210T230001Z
SEQUENCE:1
UID:17-1-37d2117b558f99b8c2bab66171987d41@forums.audipassion.com
ORGANIZER;CN="Laurie":noreply@audipassion.com
DESCRIPTION:\n \n \n\nelle aura lieu le samedi 11 février dans l'eure
	\, pour se finir par une soirée sur place avec un diner dansant au Chatea
	u d'Aveny\n \n\nle lendemain\, un rallye touristique dans le pays normand
	\, cloturera ce week end après le déjeuner\, pour vous permettre de rent
	rer tranquillement  :bien: \n \n\ntous les détails ICI\n
DTSTART:20060210T010000Z
END:VEVENT
BEGIN:VEVENT
SUMMARY:Resto @ Lyon
DTSTAMP:20060209T230001Z
SEQUENCE:1
UID:16-1-37d2117b558f99b8c2bab66171987d41@forums.audipassion.com
ORGANIZER;CN="vwaudi":noreply@audipassion.com
DESCRIPTION:\nResto à Lyon le 10/02...\n \n\nPlus d'infos ici :  http:
	//www.audipassion.com/services/forums/index.php?showtopic=26378\n \n\n :c
	oucou: \n
DTSTART:20060209T010000Z
END:VEVENT
BEGIN:VEVENT
SUMMARY:annif po
DTSTAMP:20060103T230001Z
SEQUENCE:1
UID:14-1-37d2117b558f99b8c2bab66171987d41@forums.audipassion.com
ORGANIZER;CN="P-O":noreply@audipassion.com
DESCRIPTION:\nc mon anniverssaire \n \n
DTSTART:20060103T010000Z
END:VEVENT
BEGIN:VEVENT
SUMMARY:Telethon 2005
DTSTAMP:20051202T230001Z
SEQUENCE:1
UID:13-1-37d2117b558f99b8c2bab66171987d41@forums.audipassion.com
ORGANIZER;CN="vwaudi":noreply@audipassion.com
DESCRIPTION:\n \n \n\nhttp://www.audipassion.com/services/forums/index
	.php?showtopic=23146\n \n\n :coucou: \n
DTSTART:20051202T010000Z
DTEND:20051205T005959Z
END:VEVENT
BEGIN:VEVENT
SUMMARY:Sortie \"Cotes du Rhône\"
DTSTAMP:20051126T230001Z
SEQUENCE:1
UID:12-1-37d2117b558f99b8c2bab66171987d41@forums.audipassion.com
ORGANIZER;CN="vwaudi":noreply@audipassion.com
DESCRIPTION:\nUn petit rassemblement est organisé en Rhône-Alpes...\n
	 \n \n\nAvis à tout les R.A. Boys !!!\n \n \n\nhttp://www.audipassion
	.com/services/forums/index.php?showtopic=22115\n \n \n\n :coucou: \n
DTSTART:20051126T010000Z
END:VEVENT
BEGIN:VEVENT
SUMMARY:Vosges Automne Tour 2005
DTSTAMP:20051104T230001Z
SEQUENCE:1
UID:8-1-37d2117b558f99b8c2bab66171987d41@forums.audipassion.com
ORGANIZER;CN="vwaudi":noreply@audipassion.com
DESCRIPTION:\nRassemblement.\n \n\nPlus d'info ici: http://www.audipass
	ion.com/services/forums/index.php?showtopic=15367&amp\;st=120\n \n\n :cou
	cou: \n
DTSTART:20051104T010000Z
END:VEVENT
BEGIN:VEVENT
SUMMARY:Le salon de l'automobile de Lyon
DTSTAMP:20051015T220001Z
SEQUENCE:1
UID:11-1-37d2117b558f99b8c2bab66171987d41@forums.audipassion.com
ORGANIZER;CN="vwaudi":noreply@audipassion.com
DESCRIPTION:\nUn petit rassemblement à l'occasion de ce Salon à lieu 
	à Lyon.\n \n\nPlus de reseignements ici :  &gt\;&gt\; http://www.audipas
	sion.com/services/forums/index.php?showtopic=18413&amp\;st=0 \n \n \n\n 
	:coucou:  :coucou: \n
DTSTART:20051015T020000Z
END:VEVENT
BEGIN:VEVENT
SUMMARY:Normandy Tour
DTSTAMP:20050923T220001Z
SEQUENCE:1
UID:3-1-37d2117b558f99b8c2bab66171987d41@forums.audipassion.com
ORGANIZER;CN="jms.":noreply@audipassion.com
DESCRIPTION:Venez nombreux  :coucou: 
DTSTART:20050923T020000Z
DTEND:20050926T015959Z
END:VEVENT
BEGIN:VEVENT
SUMMARY:Le Normandy Tour
DTSTAMP:20050923T220001Z
SEQUENCE:1
UID:5-1-37d2117b558f99b8c2bab66171987d41@forums.audipassion.com
ORGANIZER;CN="vwaudi":noreply@audipassion.com
DESCRIPTION:\nle Normandy Tour: Les 24 et 25 septembre 2005.\n \n \n\n
	Les inscrits ici\n \n\nEt \n \n\nLe programme ici\n \n\n :bien: \n
DTSTART:20050923T020000Z
DTEND:20050926T015959Z
END:VEVENT
BEGIN:VEVENT
SUMMARY:Le Festival Automobile Historique
DTSTAMP:20050909T220001Z
SEQUENCE:1
UID:7-1-37d2117b558f99b8c2bab66171987d41@forums.audipassion.com
ORGANIZER;CN="vwaudi":noreply@audipassion.com
DESCRIPTION:\n \n\nToutes les informations sont ici: http://www.audipas
	sion.com/services/forums/index.php?showtopic=12810\n \n\n :coucou: \n
DTSTART:20050909T020000Z
DTEND:20050912T015959Z
END:VEVENT
BEGIN:VEVENT
SUMMARY:Rencontre au château de Vincennes
DTSTAMP:20050903T220001Z
SEQUENCE:1
UID:6-1-37d2117b558f99b8c2bab66171987d41@forums.audipassion.com
ORGANIZER;CN="vwaudi":noreply@audipassion.com
DESCRIPTION:\n4èmes Rencontres Audi - Auto Union (réunion mensuelle of
	ficielle LC4A).\n \n\nVenez nombreux !  :coucou: \n
DTSTART:20050903T020000Z
END:VEVENT
BEGIN:VEVENT
SUMMARY:Rencontre en PACA
DTSTAMP:20050813T220001Z
SEQUENCE:1
UID:10-1-37d2117b558f99b8c2bab66171987d41@forums.audipassion.com
ORGANIZER;CN="vwaudi":noreply@audipassion.com
DESCRIPTION:\nRencontre en PACA prévue le 14 Aout.\n \n \n\nPlus d'in
	formations ici: &gt\; http://www.audipassion.com/services/forums/index.php
	?showtopic=15810&amp\;st=0\n \n\n :bien: \n
DTSTART:20050813T020000Z
END:VEVENT
BEGIN:VEVENT
SUMMARY:Les 25ans du quattro
DTSTAMP:20050804T220001Z
SEQUENCE:1
UID:4-1-37d2117b558f99b8c2bab66171987d41@forums.audipassion.com
ORGANIZER;CN="vwaudi":noreply@audipassion.com
DESCRIPTION:\nUn évenement Audi-Passion.com / La communauté des Quatre
	 Anneaux. [réservé aux membres du club LCQA].\n \n\nhttp://forums.audip
	assion.com/index.php?showtopic=13619\n \n \n\n :bien: \n \n
DTSTART:20050804T020000Z
DTEND:20050808T015959Z
END:VEVENT
BEGIN:VEVENT
SUMMARY:Le Mans avec le Club 1-11
DTSTAMP:20050803T220001Z
SEQUENCE:1
UID:9-1-37d2117b558f99b8c2bab66171987d41@forums.audipassion.com
ORGANIZER;CN="vwaudi":noreply@audipassion.com
DESCRIPTION:\nPlus d'infos: ici &gt\; http://www.audipassion.com/service
	s/forums/index.php?showtopic=7530\n \n\n :bien: \n
DTSTART:20050803T020000Z
END:VEVENT
BEGIN:VEVENT
SUMMARY:birthday joboss
DTSTAMP:20050208T230001Z
SEQUENCE:1
UID:1-1-37d2117b558f99b8c2bab66171987d41@forums.audipassion.com
ORGANIZER;CN="joboss93":noreply@audipassion.com
DESCRIPTION: :coucou:  :hot:  B) 
DTSTART:20050208T010000Z
END:VEVENT
END:VCALENDAR
